BEGIN:VCALENDAR
VERSION:2.0
PRODID:-//New Brigden - ECPv6.15.20//NONSGML v1.0//EN
CALSCALE:GREGORIAN
METHOD:PUBLISH
X-WR-CALNAME:New Brigden
X-ORIGINAL-URL:https://newbrigden.ca
X-WR-CALDESC:Events for New Brigden
REFRESH-INTERVAL;VALUE=DURATION:PT1H
X-Robots-Tag:noindex
X-PUBLISHED-TTL:PT1H
BEGIN:VTIMEZONE
TZID:America/Edmonton
BEGIN:DAYLIGHT
TZOFFSETFROM:-0700
TZOFFSETTO:-0600
TZNAME:MDT
DTSTART:20250309T090000
END:DAYLIGHT
BEGIN:STANDARD
TZOFFSETFROM:-0600
TZOFFSETTO:-0700
TZNAME:MST
DTSTART:20251102T080000
END:STANDARD
BEGIN:DAYLIGHT
TZOFFSETFROM:-0700
TZOFFSETTO:-0600
TZNAME:MDT
DTSTART:20260308T090000
END:DAYLIGHT
BEGIN:STANDARD
TZOFFSETFROM:-0600
TZOFFSETTO:-0700
TZNAME:MST
DTSTART:20261101T080000
END:STANDARD
BEGIN:DAYLIGHT
TZOFFSETFROM:-0700
TZOFFSETTO:-0600
TZNAME:MDT
DTSTART:20270314T090000
END:DAYLIGHT
BEGIN:STANDARD
TZOFFSETFROM:-0600
TZOFFSETTO:-0700
TZNAME:MST
DTSTART:20271107T080000
END:STANDARD
END:VTIMEZONE
BEGIN:VEVENT
DTSTART;TZID=America/Edmonton:20260606T140000
DTEND;TZID=America/Edmonton:20260606T140000
DTSTAMP:20260421T091546
CREATED:20260330T194638Z
LAST-MODIFIED:20260330T194814Z
UID:1707-1780754400-1780754400@newbrigden.ca
SUMMARY:Bridal Shower- Shelby Kellner
DESCRIPTION:You’re invited to celebrate Shelby Kellner\, Bride-to-Be of Shawne Code! 💍✨ \n\n\n\nJoin us for a bridal shower in her honor – everyone is welcome to come celebrate\, mingle\, and share in the excitement before the big day.📍 Location: New Brigden Hall \n\n\n\nWe look forward to celebrating Shelby and wishing the happy couple all the best! 🎉
URL:https://newbrigden.ca/event/bridal-shower-shelby-kellner/
END:VEVENT
END:VCALENDAR